Package: MMAPPR2 Version: 1.8.0 Command: /home/biocbuild/bbs-3.14-bioc/R/bin/R CMD build --keep-empty-dirs --no-resave-data MMAPPR2 StartedAt: 2022-04-12 05:03:24 -0400 (Tue, 12 Apr 2022) EndedAt: 2022-04-12 05:04:57 -0400 (Tue, 12 Apr 2022) EllapsedTime: 92.8 seconds RetCode: 0 Status: OK PackageFile: MMAPPR2_1.8.0.tar.gz PackageFileSize: 390.9 KiB