Package: MEIGOR Version: 1.28.0 Command: chmod a+r MEIGOR -R && C:\Users\biocbuild\bbs-3.14-bioc\R\bin\R.exe CMD build --keep-empty-dirs --no-resave-data MEIGOR StartedAt: 2022-04-12 11:49:53 -0400 (Tue, 12 Apr 2022) EndedAt: 2022-04-12 11:53:08 -0400 (Tue, 12 Apr 2022) EllapsedTime: 195.3 seconds RetCode: 0 Status: OK PackageFile: MEIGOR_1.28.0.tar.gz PackageFileSize: 2.306 MiB