Package: MBQN Version: 2.6.2 Command: /home/biocbuild/bbs-3.14-bioc/R/bin/R CMD INSTALL MBQN StartedAt: 2022-04-12 03:23:39 -0400 (Tue, 12 Apr 2022) EndedAt: 2022-04-12 03:23:44 -0400 (Tue, 12 Apr 2022) EllapsedTime: 4.9 seconds RetCode: 0 Status: OK