Package: MBQN Version: 2.6.2 Command: /home/biocbuild/bbs-3.14-bioc/R/bin/R CMD build --keep-empty-dirs --no-resave-data MBQN StartedAt: 2022-04-12 04:56:02 -0400 (Tue, 12 Apr 2022) EndedAt: 2022-04-12 04:56:09 -0400 (Tue, 12 Apr 2022) EllapsedTime: 7.3 seconds RetCode: 0 Status: OK PackageFile: MBQN_2.6.2.tar.gz PackageFileSize: 183.5 KiB