Package: MAIT Version: 1.28.0 Command: chmod a+r MAIT -R && C:\Users\biocbuild\bbs-3.14-bioc\R\bin\R.exe CMD build --keep-empty-dirs --no-resave-data MAIT StartedAt: 2022-04-12 11:42:59 -0400 (Tue, 12 Apr 2022) EndedAt: 2022-04-12 11:46:32 -0400 (Tue, 12 Apr 2022) EllapsedTime: 212.8 seconds RetCode: 0 Status: OK PackageFile: MAIT_1.28.0.tar.gz PackageFileSize: 2.292 MiB