Package: MAGeCKFlute Version: 1.14.0 Command: rm -rf MAGeCKFlute.buildbin-libdir && mkdir MAGeCKFlute.buildbin-libdir && C:\Users\biocbuild\bbs-3.14-bioc\R\bin\R.exe CMD INSTALL --merge-multiarch --build --library=MAGeCKFlute.buildbin-libdir MAGeCKFlute_1.14.0.tar.gz StartedAt: 2022-04-13 06:30:48 -0400 (Wed, 13 Apr 2022) EndedAt: 2022-04-13 06:31:38 -0400 (Wed, 13 Apr 2022) EllapsedTime: 49.2 seconds RetCode: 0 Status: OK PackageFile: MAGeCKFlute_1.14.0.zip PackageFileSize: 11.45 MiB