Package: MADSEQ Version: 1.20.0 Command: /Library/Frameworks/R.framework/Resources/bin/R CMD check --install=check:MADSEQ.install-out.txt --library=/Library/Frameworks/R.framework/Resources/library --no-vignettes --timings MADSEQ_1.20.0.tar.gz StartedAt: 2022-04-12 14:55:42 -0400 (Tue, 12 Apr 2022) EndedAt: 2022-04-12 15:03:05 -0400 (Tue, 12 Apr 2022) EllapsedTime: 443.0 seconds RetCode: 0 Status: OK CheckDir: MADSEQ.Rcheck Warnings: 0