Package: M3C Version: 1.16.0 Command: /home/biocbuild/bbs-3.14-bioc/R/bin/R CMD build --keep-empty-dirs --no-resave-data M3C StartedAt: 2022-04-12 04:53:42 -0400 (Tue, 12 Apr 2022) EndedAt: 2022-04-12 04:54:21 -0400 (Tue, 12 Apr 2022) EllapsedTime: 39.2 seconds RetCode: 0 Status: OK PackageFile: M3C_1.16.0.tar.gz PackageFileSize: 583.6 KiB