Package: LiquidAssociation Version: 1.48.0 Command: /Library/Frameworks/R.framework/Resources/bin/R CMD INSTALL LiquidAssociation StartedAt: 2022-04-12 03:54:12 -0400 (Tue, 12 Apr 2022) EndedAt: 2022-04-12 03:54:39 -0400 (Tue, 12 Apr 2022) EllapsedTime: 27.4 seconds RetCode: 0 Status: OK