Package: LiquidAssociation Version: 1.48.0 Command: /Library/Frameworks/R.framework/Resources/bin/R CMD build --keep-empty-dirs --no-resave-data LiquidAssociation StartedAt: 2022-04-12 06:49:26 -0400 (Tue, 12 Apr 2022) EndedAt: 2022-04-12 06:50:27 -0400 (Tue, 12 Apr 2022) EllapsedTime: 60.8 seconds RetCode: 0 Status: OK PackageFile: LiquidAssociation_1.48.0.tar.gz PackageFileSize: 220 KiB