Package: ISoLDE Version: 1.22.0 Command: C:\Users\biocbuild\bbs-3.14-bioc\R\bin\R.exe CMD check --force-multiarch --install=check:ISoLDE.install-out.txt --library=C:\Users\biocbuild\bbs-3.14-bioc\R\library --no-vignettes --timings ISoLDE_1.22.0.tar.gz StartedAt: 2022-04-12 21:44:41 -0400 (Tue, 12 Apr 2022) EndedAt: 2022-04-12 21:48:19 -0400 (Tue, 12 Apr 2022) EllapsedTime: 218.2 seconds RetCode: 0 Status: WARNINGS CheckDir: ISoLDE.Rcheck Warnings: 1