Package: IMAS Version: 1.18.0 Command: C:\cygwin\bin\curl.exe -O http://155.52.207.166/BBS/3.14/bioc/src/contrib/IMAS_1.18.0.tar.gz && rm -rf IMAS.buildbin-libdir && mkdir IMAS.buildbin-libdir && C:\Users\biocbuild\bbs-3.14-bioc\R\bin\R.exe CMD INSTALL --merge-multiarch --build --library=IMAS.buildbin-libdir IMAS_1.18.0.tar.gz && C:\Users\biocbuild\bbs-3.14-bioc\R\bin\R.exe CMD INSTALL IMAS_1.18.0.zip && rm IMAS_1.18.0.tar.gz IMAS_1.18.0.zip StartedAt: 2022-04-12 06:46:05 -0400 (Tue, 12 Apr 2022) EndedAt: 2022-04-12 06:48:25 -0400 (Tue, 12 Apr 2022) EllapsedTime: 140.2 seconds RetCode: 0 Status: OK