Package: IMAS Version: 1.18.0 Command: rm -rf IMAS.buildbin-libdir && mkdir IMAS.buildbin-libdir && /Users/biocbuild/BBS/utils/build-universal.sh IMAS_1.18.0.tar.gz /Library/Frameworks/R.framework/Resources/bin/R IMAS.buildbin-libdir StartedAt: 2022-04-12 20:53:30 -0400 (Tue, 12 Apr 2022) EndedAt: 2022-04-12 20:54:38 -0400 (Tue, 12 Apr 2022) EllapsedTime: 68.6 seconds RetCode: 0 Status: OK PackageFile: IMAS_1.18.0.tgz PackageFileSize: 745 KiB