Package: HilbertCurve Version: 1.24.0 Command: C:\cygwin\bin\curl.exe -O http://155.52.207.166/BBS/3.14/bioc/src/contrib/HilbertCurve_1.24.0.tar.gz && rm -rf HilbertCurve.buildbin-libdir && mkdir HilbertCurve.buildbin-libdir && C:\Users\biocbuild\bbs-3.14-bioc\R\bin\R.exe CMD INSTALL --merge-multiarch --build --library=HilbertCurve.buildbin-libdir HilbertCurve_1.24.0.tar.gz && C:\Users\biocbuild\bbs-3.14-bioc\R\bin\R.exe CMD INSTALL HilbertCurve_1.24.0.zip && rm HilbertCurve_1.24.0.tar.gz HilbertCurve_1.24.0.zip StartedAt: 2022-04-12 04:55:36 -0400 (Tue, 12 Apr 2022) EndedAt: 2022-04-12 04:59:04 -0400 (Tue, 12 Apr 2022) EllapsedTime: 208.5 seconds RetCode: 0 Status: OK