Package: HiTC Version: 1.38.0 Command: C:\cygwin\bin\curl.exe -O http://155.52.207.166/BBS/3.14/bioc/src/contrib/HiTC_1.38.0.tar.gz && rm -rf HiTC.buildbin-libdir && mkdir HiTC.buildbin-libdir && C:\Users\biocbuild\bbs-3.14-bioc\R\bin\R.exe CMD INSTALL --merge-multiarch --build --library=HiTC.buildbin-libdir HiTC_1.38.0.tar.gz && C:\Users\biocbuild\bbs-3.14-bioc\R\bin\R.exe CMD INSTALL HiTC_1.38.0.zip && rm HiTC_1.38.0.tar.gz HiTC_1.38.0.zip StartedAt: 2022-04-12 06:35:28 -0400 (Tue, 12 Apr 2022) EndedAt: 2022-04-12 06:38:02 -0400 (Tue, 12 Apr 2022) EllapsedTime: 153.5 seconds RetCode: 0 Status: OK