Package: HDF5Array Version: 1.22.1 Command: /Library/Frameworks/R.framework/Resources/bin/R CMD INSTALL HDF5Array StartedAt: 2022-04-12 03:33:14 -0400 (Tue, 12 Apr 2022) EndedAt: 2022-04-12 03:33:54 -0400 (Tue, 12 Apr 2022) EllapsedTime: 39.8 seconds RetCode: 0 Status: OK