Package: GraphAlignment Version: 1.58.0 Command: /Library/Frameworks/R.framework/Resources/bin/R CMD INSTALL GraphAlignment StartedAt: 2022-04-12 03:13:17 -0400 (Tue, 12 Apr 2022) EndedAt: 2022-04-12 03:13:26 -0400 (Tue, 12 Apr 2022) EllapsedTime: 8.5 seconds RetCode: 0 Status: OK