Package: GenomicOZone Version: 1.8.0 Command: /home/biocbuild/bbs-3.14-bioc/R/bin/R CMD INSTALL GenomicOZone StartedAt: 2022-04-12 03:46:43 -0400 (Tue, 12 Apr 2022) EndedAt: 2022-04-12 03:47:39 -0400 (Tue, 12 Apr 2022) EllapsedTime: 56.0 seconds RetCode: 0 Status: OK