Package: GenomicOZone Version: 1.8.0 Command: /home/biocbuild/bbs-3.14-bioc/R/bin/R CMD check --install=check:GenomicOZone.install-out.txt --library=/home/biocbuild/bbs-3.14-bioc/R/library --no-vignettes --timings GenomicOZone_1.8.0.tar.gz StartedAt: 2022-04-12 07:34:14 -0400 (Tue, 12 Apr 2022) EndedAt: 2022-04-12 07:39:01 -0400 (Tue, 12 Apr 2022) EllapsedTime: 287.0 seconds RetCode: 0 Status: OK CheckDir: GenomicOZone.Rcheck Warnings: 0