Package: GenomicFeatures Version: 1.46.5 Command: /home/biocbuild/bbs-3.14-bioc/R/bin/R CMD INSTALL GenomicFeatures StartedAt: 2022-04-12 03:34:40 -0400 (Tue, 12 Apr 2022) EndedAt: 2022-04-12 03:35:16 -0400 (Tue, 12 Apr 2022) EllapsedTime: 36.3 seconds RetCode: 0 Status: OK