Package: GenomicFeatures Version: 1.46.5 Command: /home/biocbuild/bbs-3.14-bioc/R/bin/R CMD build --keep-empty-dirs --no-resave-data GenomicFeatures StartedAt: 2022-04-12 04:36:58 -0400 (Tue, 12 Apr 2022) EndedAt: 2022-04-12 04:38:16 -0400 (Tue, 12 Apr 2022) EllapsedTime: 78.1 seconds RetCode: 0 Status: OK PackageFile: GenomicFeatures_1.46.5.tar.gz PackageFileSize: 1.312 MiB