Package: GeneTonic Version: 1.6.4 Command: C:\cygwin\bin\curl.exe -O http://155.52.207.166/BBS/3.14/bioc/src/contrib/GeneTonic_1.6.4.tar.gz && rm -rf GeneTonic.buildbin-libdir && mkdir GeneTonic.buildbin-libdir && C:\Users\biocbuild\bbs-3.14-bioc\R\bin\R.exe CMD INSTALL --merge-multiarch --build --library=GeneTonic.buildbin-libdir GeneTonic_1.6.4.tar.gz && C:\Users\biocbuild\bbs-3.14-bioc\R\bin\R.exe CMD INSTALL GeneTonic_1.6.4.zip && rm GeneTonic_1.6.4.tar.gz GeneTonic_1.6.4.zip StartedAt: 2022-04-12 06:24:48 -0400 (Tue, 12 Apr 2022) EndedAt: 2022-04-12 06:27:13 -0400 (Tue, 12 Apr 2022) EllapsedTime: 144.5 seconds RetCode: 0 Status: OK