Package: GeneNetworkBuilder Version: 1.36.1 Command: C:\cygwin\bin\curl.exe -O http://155.52.207.166/BBS/3.14/bioc/src/contrib/GeneNetworkBuilder_1.36.1.tar.gz && rm -rf GeneNetworkBuilder.buildbin-libdir && mkdir GeneNetworkBuilder.buildbin-libdir && C:\Users\biocbuild\bbs-3.14-bioc\R\bin\R.exe CMD INSTALL --merge-multiarch --build --library=GeneNetworkBuilder.buildbin-libdir GeneNetworkBuilder_1.36.1.tar.gz && C:\Users\biocbuild\bbs-3.14-bioc\R\bin\R.exe CMD INSTALL GeneNetworkBuilder_1.36.1.zip && rm GeneNetworkBuilder_1.36.1.tar.gz GeneNetworkBuilder_1.36.1.zip StartedAt: 2022-04-12 04:37:45 -0400 (Tue, 12 Apr 2022) EndedAt: 2022-04-12 04:39:44 -0400 (Tue, 12 Apr 2022) EllapsedTime: 119.1 seconds RetCode: 0 Status: OK