Package: GSEABenchmarkeR Version: 1.14.0 Command: rm -rf GSEABenchmarkeR.buildbin-libdir && mkdir GSEABenchmarkeR.buildbin-libdir && /Users/biocbuild/BBS/utils/build-universal.sh GSEABenchmarkeR_1.14.0.tar.gz /Library/Frameworks/R.framework/Resources/bin/R GSEABenchmarkeR.buildbin-libdir StartedAt: 2022-04-12 20:50:39 -0400 (Tue, 12 Apr 2022) EndedAt: 2022-04-12 20:51:15 -0400 (Tue, 12 Apr 2022) EllapsedTime: 36.1 seconds RetCode: 0 Status: OK PackageFile: GSEABenchmarkeR_1.14.0.tgz PackageFileSize: 708.6 KiB