Package: GOSim Version: 1.32.0 Command: rm -rf GOSim.buildbin-libdir && mkdir GOSim.buildbin-libdir && /Users/biocbuild/BBS/utils/build-universal.sh GOSim_1.32.0.tar.gz /Library/Frameworks/R.framework/Resources/bin/R GOSim.buildbin-libdir StartedAt: 2022-04-12 20:49:38 -0400 (Tue, 12 Apr 2022) EndedAt: 2022-04-12 20:50:30 -0400 (Tue, 12 Apr 2022) EllapsedTime: 52.2 seconds RetCode: 0 Status: OK PackageFile: GOSim_1.32.0.tgz PackageFileSize: 534.7 KiB