git_url: https://git.bioconductor.org/packages/GEWIST git_branch: RELEASE_3_14 git_last_commit: b941c3f git_last_commit_date: 2021-10-26 12:01:38 -0400 (Tue, 26 Oct 2021) Package: GEWIST Version: 1.38.0 Maintainer: Wei Q. Deng MaintainerEmail: dengwq at mcmaster.ca