Package: GDCRNATools Version: 1.14.0 Command: C:\Users\biocbuild\bbs-3.14-bioc\R\bin\R.exe CMD check --force-multiarch --install=check:GDCRNATools.install-out.txt --library=C:\Users\biocbuild\bbs-3.14-bioc\R\library --no-vignettes --timings GDCRNATools_1.14.0.tar.gz StartedAt: 2022-03-22 19:32:13 -0400 (Tue, 22 Mar 2022) EndedAt: 2022-03-22 19:39:12 -0400 (Tue, 22 Mar 2022) EllapsedTime: 418.5 seconds RetCode: 0 Status: OK CheckDir: GDCRNATools.Rcheck Warnings: 0