Package: GDCRNATools Version: 1.14.0 Command: /home/biocbuild/bbs-3.14-bioc/R/bin/R CMD build --keep-empty-dirs --no-resave-data GDCRNATools StartedAt: 2022-04-12 04:35:10 -0400 (Tue, 12 Apr 2022) EndedAt: 2022-04-12 04:36:12 -0400 (Tue, 12 Apr 2022) EllapsedTime: 62.8 seconds RetCode: 1 Status: ERROR PackageFile: None PackageFileSize: NA