Package: GDCRNATools Version: 1.14.0 Command: rm -rf GDCRNATools.buildbin-libdir && mkdir GDCRNATools.buildbin-libdir && /Users/biocbuild/BBS/utils/build-universal.sh GDCRNATools_1.14.0.tar.gz /Library/Frameworks/R.framework/Resources/bin/R GDCRNATools.buildbin-libdir StartedAt: 2022-03-29 20:39:32 -0400 (Tue, 29 Mar 2022) EndedAt: 2022-03-29 20:41:18 -0400 (Tue, 29 Mar 2022) EllapsedTime: 105.6 seconds RetCode: 0 Status: OK PackageFile: GDCRNATools_1.14.0.tgz PackageFileSize: 4.969 MiB