Package: FGNet Version: 3.28.0 Command: rm -rf FGNet.buildbin-libdir && mkdir FGNet.buildbin-libdir && /Users/biocbuild/BBS/utils/build-universal.sh FGNet_3.28.0.tar.gz /Library/Frameworks/R.framework/Resources/bin/R FGNet.buildbin-libdir StartedAt: 2022-04-12 20:43:08 -0400 (Tue, 12 Apr 2022) EndedAt: 2022-04-12 20:43:23 -0400 (Tue, 12 Apr 2022) EllapsedTime: 14.8 seconds RetCode: 0 Status: OK PackageFile: FGNet_3.28.0.tgz PackageFileSize: 1.689 MiB