Package: ExpressionAtlas Version: 1.22.1 Command: /home/biocbuild/bbs-3.14-bioc/R/bin/R CMD INSTALL ExpressionAtlas StartedAt: 2022-04-12 03:22:45 -0400 (Tue, 12 Apr 2022) EndedAt: 2022-04-12 03:23:05 -0400 (Tue, 12 Apr 2022) EllapsedTime: 20.4 seconds RetCode: 0 Status: OK