Package: EpiTxDb Version: 1.6.0 Command: /Library/Frameworks/R.framework/Resources/bin/R CMD INSTALL EpiTxDb StartedAt: 2022-04-12 04:02:53 -0400 (Tue, 12 Apr 2022) EndedAt: 2022-04-12 04:03:59 -0400 (Tue, 12 Apr 2022) EllapsedTime: 66.9 seconds RetCode: 0 Status: OK