Package: EpiTxDb Version: 1.6.0 Command: rm -rf EpiTxDb.buildbin-libdir && mkdir EpiTxDb.buildbin-libdir && /Users/biocbuild/BBS/utils/build-universal.sh EpiTxDb_1.6.0.tar.gz /Library/Frameworks/R.framework/Resources/bin/R EpiTxDb.buildbin-libdir StartedAt: 2022-04-12 20:41:08 -0400 (Tue, 12 Apr 2022) EndedAt: 2022-04-12 20:42:20 -0400 (Tue, 12 Apr 2022) EllapsedTime: 72.1 seconds RetCode: 0 Status: OK PackageFile: EpiTxDb_1.6.0.tgz PackageFileSize: 1.62 MiB