Package: EBImage Version: 4.36.0 Command: rm -rf EBImage.buildbin-libdir && mkdir EBImage.buildbin-libdir && /Users/biocbuild/BBS/utils/build-universal.sh EBImage_4.36.0.tar.gz /Library/Frameworks/R.framework/Resources/bin/R EBImage.buildbin-libdir StartedAt: 2022-04-12 20:39:33 -0400 (Tue, 12 Apr 2022) EndedAt: 2022-04-12 20:39:59 -0400 (Tue, 12 Apr 2022) EllapsedTime: 26.2 seconds RetCode: 0 Status: OK PackageFile: EBImage_4.36.0.tgz PackageFileSize: 5.544 MiB