Package: Doscheda Version: 1.16.0 Command: rm -rf Doscheda.buildbin-libdir && mkdir Doscheda.buildbin-libdir && /Users/biocbuild/BBS/utils/build-universal.sh Doscheda_1.16.0.tar.gz /Library/Frameworks/R.framework/Resources/bin/R Doscheda.buildbin-libdir StartedAt: 2022-04-12 20:38:38 -0400 (Tue, 12 Apr 2022) EndedAt: 2022-04-12 20:39:08 -0400 (Tue, 12 Apr 2022) EllapsedTime: 29.6 seconds RetCode: 0 Status: OK PackageFile: Doscheda_1.16.0.tgz PackageFileSize: 4.374 MiB