Package: Dino Version: 1.0.0 Command: /Library/Frameworks/R.framework/Resources/bin/R CMD INSTALL Dino StartedAt: 2022-04-12 03:53:27 -0400 (Tue, 12 Apr 2022) EndedAt: 2022-04-12 03:54:24 -0400 (Tue, 12 Apr 2022) EllapsedTime: 56.7 seconds RetCode: 0 Status: OK