Package: DMCFB Version: 1.8.0 Command: chmod a+r DMCFB -R && C:\Users\biocbuild\bbs-3.14-bioc\R\bin\R.exe CMD build --keep-empty-dirs --no-resave-data DMCFB StartedAt: 2022-04-12 09:42:22 -0400 (Tue, 12 Apr 2022) EndedAt: 2022-04-12 09:43:31 -0400 (Tue, 12 Apr 2022) EllapsedTime: 69.3 seconds RetCode: 0 Status: OK PackageFile: DMCFB_1.8.0.tar.gz PackageFileSize: 969.4 KiB