Package: DAPAR Version: 1.26.1 Command: /home/biocbuild/bbs-3.14-bioc/R/bin/R CMD build --keep-empty-dirs --no-resave-data DAPAR StartedAt: 2022-04-12 04:19:08 -0400 (Tue, 12 Apr 2022) EndedAt: 2022-04-12 04:19:50 -0400 (Tue, 12 Apr 2022) EllapsedTime: 41.8 seconds RetCode: 0 Status: OK PackageFile: DAPAR_1.26.1.tar.gz PackageFileSize: 3.937 MiB