Package: CytoML Version: 2.6.0 Command: /home/biocbuild/bbs-3.14-bioc/R/bin/R CMD build --keep-empty-dirs --no-resave-data CytoML StartedAt: 2022-04-12 04:18:32 -0400 (Tue, 12 Apr 2022) EndedAt: 2022-04-12 04:20:08 -0400 (Tue, 12 Apr 2022) EllapsedTime: 95.7 seconds RetCode: 0 Status: OK PackageFile: CytoML_2.6.0.tar.gz PackageFileSize: 7.882 MiB