Package: CytoML Version: 2.6.0 Command: /Library/Frameworks/R.framework/Resources/bin/R CMD build --keep-empty-dirs --no-resave-data CytoML StartedAt: 2022-04-12 05:33:20 -0400 (Tue, 12 Apr 2022) EndedAt: 2022-04-12 05:36:12 -0400 (Tue, 12 Apr 2022) EllapsedTime: 172.3 seconds RetCode: 0 Status: OK PackageFile: CytoML_2.6.0.tar.gz PackageFileSize: 7.881 MiB