Package: CytoDx Version: 1.14.0 Command: /Library/Frameworks/R.framework/Resources/bin/R CMD build --keep-empty-dirs --no-resave-data CytoDx StartedAt: 2022-04-12 05:32:16 -0400 (Tue, 12 Apr 2022) EndedAt: 2022-04-12 05:32:52 -0400 (Tue, 12 Apr 2022) EllapsedTime: 36.8 seconds RetCode: 0 Status: OK PackageFile: CytoDx_1.14.0.tar.gz PackageFileSize: 656.7 KiB