Package: CoreGx Version: 1.6.0 Command: /home/biocbuild/bbs-3.14-bioc/R/bin/R CMD build --keep-empty-dirs --no-resave-data CoreGx StartedAt: 2022-04-12 04:16:16 -0400 (Tue, 12 Apr 2022) EndedAt: 2022-04-12 04:17:06 -0400 (Tue, 12 Apr 2022) EllapsedTime: 49.5 seconds RetCode: 0 Status: OK PackageFile: CoreGx_1.6.0.tar.gz PackageFileSize: 1.2 MiB