Package: CoGAPS Version: 3.14.0 Command: rm -rf CoGAPS.buildbin-libdir && mkdir CoGAPS.buildbin-libdir && /Users/biocbuild/BBS/utils/build-universal.sh CoGAPS_3.14.0.tar.gz /Library/Frameworks/R.framework/Resources/bin/R CoGAPS.buildbin-libdir StartedAt: 2022-04-12 20:31:09 -0400 (Tue, 12 Apr 2022) EndedAt: 2022-04-12 20:35:55 -0400 (Tue, 12 Apr 2022) EllapsedTime: 285.8 seconds RetCode: 0 Status: OK PackageFile: CoGAPS_3.14.0.tgz PackageFileSize: 20.29 MiB