Package: ChromHeatMap Version: 1.48.0 Command: rm -rf ChromHeatMap.buildbin-libdir && mkdir ChromHeatMap.buildbin-libdir && C:\Users\biocbuild\bbs-3.14-bioc\R\bin\R.exe CMD INSTALL --merge-multiarch --build --library=ChromHeatMap.buildbin-libdir ChromHeatMap_1.48.0.tar.gz StartedAt: 2022-04-13 05:51:26 -0400 (Wed, 13 Apr 2022) EndedAt: 2022-04-13 05:52:28 -0400 (Wed, 13 Apr 2022) EllapsedTime: 61.9 seconds RetCode: 0 Status: OK PackageFile: ChromHeatMap_1.48.0.zip PackageFileSize: 667.2 KiB