Package: ChAMP Version: 2.24.0 Command: /Library/Frameworks/R.framework/Resources/bin/R CMD build --keep-empty-dirs --no-resave-data ChAMP StartedAt: 2022-04-12 05:11:35 -0400 (Tue, 12 Apr 2022) EndedAt: 2022-04-12 05:14:37 -0400 (Tue, 12 Apr 2022) EllapsedTime: 182.1 seconds RetCode: 0 Status: OK PackageFile: ChAMP_2.24.0.tar.gz PackageFileSize: 7.941 MiB