Package: CNVRanger Version: 1.10.3 Command: /Library/Frameworks/R.framework/Resources/bin/R CMD INSTALL CNVRanger StartedAt: 2022-04-12 03:43:17 -0400 (Tue, 12 Apr 2022) EndedAt: 2022-04-12 03:43:51 -0400 (Tue, 12 Apr 2022) EllapsedTime: 34.0 seconds RetCode: 0 Status: OK