Package: CGHcall Version: 2.56.0 Command: C:\Users\biocbuild\bbs-3.14-bioc\R\bin\R.exe CMD check --force-multiarch --install=check:CGHcall.install-out.txt --library=C:\Users\biocbuild\bbs-3.14-bioc\R\library --no-vignettes --timings CGHcall_2.56.0.tar.gz StartedAt: 2022-04-12 17:08:49 -0400 (Tue, 12 Apr 2022) EndedAt: 2022-04-12 17:09:53 -0400 (Tue, 12 Apr 2022) EllapsedTime: 63.6 seconds RetCode: 0 Status: WARNINGS CheckDir: CGHcall.Rcheck Warnings: 2