Package: CEMiTool Version: 1.18.1 Command: /Library/Frameworks/R.framework/Resources/bin/R CMD build --keep-empty-dirs --no-resave-data CEMiTool StartedAt: 2022-04-12 05:09:18 -0400 (Tue, 12 Apr 2022) EndedAt: 2022-04-12 05:12:00 -0400 (Tue, 12 Apr 2022) EllapsedTime: 162.1 seconds RetCode: 0 Status: OK PackageFile: CEMiTool_1.18.1.tar.gz PackageFileSize: 5.438 MiB