Package: CEMiTool Version: 1.18.1 Command: rm -rf CEMiTool.buildbin-libdir && mkdir CEMiTool.buildbin-libdir && /Users/biocbuild/BBS/utils/build-universal.sh CEMiTool_1.18.1.tar.gz /Library/Frameworks/R.framework/Resources/bin/R CEMiTool.buildbin-libdir StartedAt: 2022-04-12 20:27:15 -0400 (Tue, 12 Apr 2022) EndedAt: 2022-04-12 20:28:09 -0400 (Tue, 12 Apr 2022) EllapsedTime: 54.3 seconds RetCode: 0 Status: OK PackageFile: CEMiTool_1.18.1.tgz PackageFileSize: 5.939 MiB