Package: CAnD Version: 1.26.0 Command: /home/biocbuild/bbs-3.14-bioc/R/bin/R CMD build --keep-empty-dirs --no-resave-data CAnD StartedAt: 2022-04-12 04:04:02 -0400 (Tue, 12 Apr 2022) EndedAt: 2022-04-12 04:04:13 -0400 (Tue, 12 Apr 2022) EllapsedTime: 11.0 seconds RetCode: 0 Status: OK PackageFile: CAnD_1.26.0.tar.gz PackageFileSize: 314.8 KiB